BEGIN:VCALENDAR
VERSION:2.0
PRODID:-//wp-events-plugin.com//7.2.3.1//EN
BEGIN:VEVENT
UID:457@newhopekahului.com
DTSTART;TZID=Pacific/Honolulu:20260422T183000
DTEND;TZID=Pacific/Honolulu:20260422T203000
DTSTAMP:20251211T051745Z
URL:https://www.newhopekahului.com/events/midweek-service-2026-01-07-2026-
 01-14-2026-01-21-2026-01-28-2026-02-04-2026-02-11-2026-02-18-2026-02-25-20
 26-03-04-2026-03-11-2026-03-18-2026-03-25-2026-04-01-2026-04-08-2026-04-15
 -2026-04-22/
SUMMARY:Midweek Service
DESCRIPTION:Join Us Wednesday evening from 6:30pm
ATTACH;FMTTYPE=image/jpeg:https://www.newhopekahului.com/wp-content/upload
 s/2023/04/5-Mid-Week-Service-1920x1080-1.jpg
LOCATION:NewHope Kahului\, 349 Hanakai St\, Kahului\, HI\, 96732\, United S
 tates
X-APPLE-STRUCTURED-LOCATION;VALUE=URI;X-ADDRESS=349 Hanakai St\, Kahului\, 
 HI\, 96732\, United States;X-APPLE-RADIUS=100;X-TITLE=NewHope Kahului:geo:
 0,0
END:VEVENT
BEGIN:VTIMEZONE
TZID:Pacific/Honolulu
X-LIC-LOCATION:Pacific/Honolulu
BEGIN:STANDARD
DTSTART:20250422T183000
TZOFFSETFROM:-1000
TZOFFSETTO:-1000
TZNAME:HST
END:STANDARD
END:VTIMEZONE
END:VCALENDAR